BEGIN:VCALENDAR
VERSION:2.0
PRODID:-//Old Haileyburians Association - ECPv6.15.20//NONSGML v1.0//EN
CALSCALE:GREGORIAN
METHOD:PUBLISH
X-WR-CALNAME:Old Haileyburians Association
X-ORIGINAL-URL:https://oha.org.au
X-WR-CALDESC:Events for Old Haileyburians Association
REFRESH-INTERVAL;VALUE=DURATION:PT1H
X-Robots-Tag:noindex
X-PUBLISHED-TTL:PT1H
BEGIN:VTIMEZONE
TZID:Australia/Melbourne
BEGIN:STANDARD
TZOFFSETFROM:+1100
TZOFFSETTO:+1000
TZNAME:AEST
DTSTART:20210403T160000
END:STANDARD
BEGIN:DAYLIGHT
TZOFFSETFROM:+1000
TZOFFSETTO:+1100
TZNAME:AEDT
DTSTART:20211002T160000
END:DAYLIGHT
BEGIN:STANDARD
TZOFFSETFROM:+1100
TZOFFSETTO:+1000
TZNAME:AEST
DTSTART:20220402T160000
END:STANDARD
BEGIN:DAYLIGHT
TZOFFSETFROM:+1000
TZOFFSETTO:+1100
TZNAME:AEDT
DTSTART:20221001T160000
END:DAYLIGHT
BEGIN:STANDARD
TZOFFSETFROM:+1100
TZOFFSETTO:+1000
TZNAME:AEST
DTSTART:20230401T160000
END:STANDARD
BEGIN:DAYLIGHT
TZOFFSETFROM:+1000
TZOFFSETTO:+1100
TZNAME:AEDT
DTSTART:20230930T160000
END:DAYLIGHT
END:VTIMEZONE
BEGIN:VEVENT
DTSTART;TZID=Australia/Melbourne:20221103T190000
DTEND;TZID=Australia/Melbourne:20221103T220000
DTSTAMP:20260421T182256
CREATED:20211220T232939Z
LAST-MODIFIED:20220920T044500Z
UID:10000015-1667502000-1667512800@oha.org.au
SUMMARY:Brisbane Chapter Event
DESCRIPTION:To our Brisbane Alumni\, you are invited to your Chapter Reunion at Moda for a relaxed and delicious 3 course dinner! \nWhy not take a moment to get to know your fellow alumni located in Brisbane and hear all the latest news from Haileybury and the OHA. Enjoy three courses with signature dishes selected by the chef and created from seasonal produce and beverages. \nCome along to catch up with friends\, meet some new ones and most importantly\, Stay Connected!
URL:https://oha.org.au/event/brisbane-chapter-event/
LOCATION:Moda\, The Barracks Shopping Centre\, 61 Petrie Terrace\, QLD\, 4000\, Australia
CATEGORIES:Chapter Events
ATTACH;FMTTYPE=image/png:https://oha.org.au/wp-content/uploads/2021/12/Website-invitation-design-Brisbane-Chapter.png
ORGANIZER;CN="Cristina Zannoni":MAILTO:stayconnected@haileybury.com.au
GEO:-27.465399;153.013135
X-APPLE-STRUCTURED-LOCATION;VALUE=URI;X-ADDRESS=Moda The Barracks Shopping Centre 61 Petrie Terrace QLD 4000 Australia;X-APPLE-RADIUS=500;X-TITLE=The Barracks Shopping Centre\, 61 Petrie Terrace:geo:153.013135,-27.465399
END:VEVENT
END:VCALENDAR