BEGIN:VCALENDAR
VERSION:2.0
PRODID:-//Old Haileyburians Association - ECPv6.15.20//NONSGML v1.0//EN
CALSCALE:GREGORIAN
METHOD:PUBLISH
X-WR-CALNAME:Old Haileyburians Association
X-ORIGINAL-URL:https://oha.org.au
X-WR-CALDESC:Events for Old Haileyburians Association
REFRESH-INTERVAL;VALUE=DURATION:PT1H
X-Robots-Tag:noindex
X-PUBLISHED-TTL:PT1H
BEGIN:VTIMEZONE
TZID:Australia/Melbourne
BEGIN:STANDARD
TZOFFSETFROM:+1100
TZOFFSETTO:+1000
TZNAME:AEST
DTSTART:20220402T160000
END:STANDARD
BEGIN:DAYLIGHT
TZOFFSETFROM:+1000
TZOFFSETTO:+1100
TZNAME:AEDT
DTSTART:20221001T160000
END:DAYLIGHT
BEGIN:STANDARD
TZOFFSETFROM:+1100
TZOFFSETTO:+1000
TZNAME:AEST
DTSTART:20230401T160000
END:STANDARD
BEGIN:DAYLIGHT
TZOFFSETFROM:+1000
TZOFFSETTO:+1100
TZNAME:AEDT
DTSTART:20230930T160000
END:DAYLIGHT
BEGIN:STANDARD
TZOFFSETFROM:+1100
TZOFFSETTO:+1000
TZNAME:AEST
DTSTART:20240406T160000
END:STANDARD
BEGIN:DAYLIGHT
TZOFFSETFROM:+1000
TZOFFSETTO:+1100
TZNAME:AEDT
DTSTART:20241005T160000
END:DAYLIGHT
END:VTIMEZONE
BEGIN:VEVENT
DTSTART;TZID=Australia/Melbourne:20230518T120000
DTEND;TZID=Australia/Melbourne:20230518T140000
DTSTAMP:20260424T143915
CREATED:20221108T020011Z
LAST-MODIFIED:20230514T230411Z
UID:10000022-1684411200-1684418400@oha.org.au
SUMMARY:Boutique Industry Luncheon with Fraser Main
DESCRIPTION:This May\, join us for an in person Boutique Industry Luncheon and hear from Fraser Main (OH 1988)\, Principal at WT Partnership. \nFraser’s career in Australia’s property industry spans over 30 years\, including significant international experience developing projects in Asia and the Middle East as well as working in the UK and USA. \nFraser is responsible for delivering Quantity Surveying\, Superintendent and Facility Management advisory services across multiple industry sectors. \nIf you are interested in the property\, construction and infrastructure sectors then this event is for you! \nThis event is open to all alumni and is an exclusive\, interactive and intimate event\, with plenty of opportunities to ask Fraser questions throughout the event. \nThis is a free event but event registration is essential. Please RSVP below and let us know of your dietary requirements.
URL:https://oha.org.au/event/boutique-industry-luncheon-8/
LOCATION:Haileybury City Campus\, 383 King St\, West Melbourne\, VIC\, 3003\, Australia
CATEGORIES:Business Event
ATTACH;FMTTYPE=image/jpeg:https://oha.org.au/wp-content/uploads/2022/11/Website-image-Fraser-Main.jpg
ORGANIZER;CN="Cristina Zannoni":MAILTO:stayconnected@haileybury.com.au
GEO:-37.8110948;144.9529957
X-APPLE-STRUCTURED-LOCATION;VALUE=URI;X-ADDRESS=Haileybury City Campus 383 King St West Melbourne VIC 3003 Australia;X-APPLE-RADIUS=500;X-TITLE=383 King St:geo:144.9529957,-37.8110948
END:VEVENT
END:VCALENDAR