BEGIN:VCALENDAR
VERSION:2.0
PRODID:-//Old Haileyburians Association - ECPv6.15.20//NONSGML v1.0//EN
CALSCALE:GREGORIAN
METHOD:PUBLISH
X-WR-CALNAME:Old Haileyburians Association
X-ORIGINAL-URL:https://oha.org.au
X-WR-CALDESC:Events for Old Haileyburians Association
REFRESH-INTERVAL;VALUE=DURATION:PT1H
X-Robots-Tag:noindex
X-PUBLISHED-TTL:PT1H
BEGIN:VTIMEZONE
TZID:Australia/Melbourne
BEGIN:STANDARD
TZOFFSETFROM:+1100
TZOFFSETTO:+1000
TZNAME:AEST
DTSTART:20220402T160000
END:STANDARD
BEGIN:DAYLIGHT
TZOFFSETFROM:+1000
TZOFFSETTO:+1100
TZNAME:AEDT
DTSTART:20221001T160000
END:DAYLIGHT
BEGIN:STANDARD
TZOFFSETFROM:+1100
TZOFFSETTO:+1000
TZNAME:AEST
DTSTART:20230401T160000
END:STANDARD
BEGIN:DAYLIGHT
TZOFFSETFROM:+1000
TZOFFSETTO:+1100
TZNAME:AEDT
DTSTART:20230930T160000
END:DAYLIGHT
BEGIN:STANDARD
TZOFFSETFROM:+1100
TZOFFSETTO:+1000
TZNAME:AEST
DTSTART:20240406T160000
END:STANDARD
BEGIN:DAYLIGHT
TZOFFSETFROM:+1000
TZOFFSETTO:+1100
TZNAME:AEDT
DTSTART:20241005T160000
END:DAYLIGHT
END:VTIMEZONE
BEGIN:VEVENT
DTSTART;TZID=Australia/Melbourne:20230601T183000
DTEND;TZID=Australia/Melbourne:20230601T210000
DTSTAMP:20260424T133141
CREATED:20221108T230916Z
LAST-MODIFIED:20230530T025043Z
UID:10000023-1685644200-1685653200@oha.org.au
SUMMARY:Sursum Corda Society\, Business Event
DESCRIPTION:This exclusive invitation only OHA event\, is open to Business Leaders wishing to connect with like-minded professionals. The Sursum Corda Society – Business Leaders Networking event is for top-tier executives within the Old Haileyburians Association. \nJoin us at the Westin Hotel for canapes\, drinks\, networking opportunities and hear from Craig Tiley\, CEO Tennis Australia. \nCraig Tiley was appointed the role of Chief Executive Officer of Tennis Australia in October 2013 and maintained his position as the Australian Open Tournament Director. Prior to this appointment\, Craig was Tennis Australia’s Director of Tennis and the Tournament Director of the Australian Open\, a position he has held since 2006. \nAs CEO Craig is responsible for all aspects of the sport of tennis in Australia. Craig manages a team of over 300 staff during the year\, with a temporary staff of 4\,500 during the Australian Open. \nFurther detail here – https://www.compps.com.au/member-ceo/craig-tiley.html \nThis is one event not to be missed. \n 
URL:https://oha.org.au/event/sursum-corda-society-business-event/
LOCATION:The Westin\, 205 Collins Street\, Melbourne\, VIC\, 3000\, Australia
CATEGORIES:Business Event,Business Leaders Networking
ATTACH;FMTTYPE=image/png:https://oha.org.au/wp-content/uploads/2022/11/Sursum-corda-website-image-.png
ORGANIZER;CN="Cristina Zannoni":MAILTO:stayconnected@haileybury.com.au
GEO:-37.8155068;144.967508
X-APPLE-STRUCTURED-LOCATION;VALUE=URI;X-ADDRESS=The Westin 205 Collins Street Melbourne VIC 3000 Australia;X-APPLE-RADIUS=500;X-TITLE=205 Collins Street:geo:144.967508,-37.8155068
END:VEVENT
END:VCALENDAR