BEGIN:VCALENDAR
VERSION:2.0
PRODID:-//Old Haileyburians Association - ECPv6.15.20//NONSGML v1.0//EN
CALSCALE:GREGORIAN
METHOD:PUBLISH
X-WR-CALNAME:Old Haileyburians Association
X-ORIGINAL-URL:https://oha.org.au
X-WR-CALDESC:Events for Old Haileyburians Association
REFRESH-INTERVAL;VALUE=DURATION:PT1H
X-Robots-Tag:noindex
X-PUBLISHED-TTL:PT1H
BEGIN:VTIMEZONE
TZID:Australia/Melbourne
BEGIN:STANDARD
TZOFFSETFROM:+1100
TZOFFSETTO:+1000
TZNAME:AEST
DTSTART:20240406T160000
END:STANDARD
BEGIN:DAYLIGHT
TZOFFSETFROM:+1000
TZOFFSETTO:+1100
TZNAME:AEDT
DTSTART:20241005T160000
END:DAYLIGHT
BEGIN:STANDARD
TZOFFSETFROM:+1100
TZOFFSETTO:+1000
TZNAME:AEST
DTSTART:20250405T160000
END:STANDARD
BEGIN:DAYLIGHT
TZOFFSETFROM:+1000
TZOFFSETTO:+1100
TZNAME:AEDT
DTSTART:20251004T160000
END:DAYLIGHT
BEGIN:STANDARD
TZOFFSETFROM:+1100
TZOFFSETTO:+1000
TZNAME:AEST
DTSTART:20260404T160000
END:STANDARD
BEGIN:DAYLIGHT
TZOFFSETFROM:+1000
TZOFFSETTO:+1100
TZNAME:AEDT
DTSTART:20261003T160000
END:DAYLIGHT
END:VTIMEZONE
BEGIN:VEVENT
DTSTART;TZID=Australia/Melbourne:20251023T183000
DTEND;TZID=Australia/Melbourne:20251023T213000
DTSTAMP:20260423T032036
CREATED:20250724T001246Z
LAST-MODIFIED:20251023T003608Z
UID:10000223-1761244200-1761255000@oha.org.au
SUMMARY:OHA Luxury Finance & Property Evening
DESCRIPTION:Join us at the Toorak office of Kay & Burton for an insightful evening\, where industry leaders and experts will explore the latest trends\, opportunities\, and challenges in the luxury finance and property sectors. \nHosted by GreenBack Capital’s Head of Residential\, Nigel Gohl (OH 1993)\, this exclusive event features a distinguished panel of speakers\, including: \n\nDarian Kuzma (OH 2003) – Private Client Executive – NAB Private Bank\nJames Driver – Partner\, Kay & Burton \nScott Tanner – Former CEO at Bank of Melbourne\, Chairman at Kay & Burton\, Managing Director of GreenBack Capital \n\nGain valuable insights from experts in luxury finance and property and connect with leading professionals shaping Melbourne’s future. \nEvent Details: \n\nVenue: Kay & Burton\, Level 7\, 505 Toorak Rd\, Toorak VIC 3142 \nDate: Thursday\, 23 October 2025\nTime: 6.30pm arrival for 7pm start\nInclusions: Canapes and drinks\nCosts: $75 per person\n\nThis is an event with limited space\, so reserve your spot today! \nDon’t miss this opportunity to network and stay ahead of the curve. \nWe look forward to seeing you there! \n 
URL:https://oha.org.au/event/oha-luxury-finance-property-evening/
LOCATION:Kay and Burton\, Level 7\, 505 Toorak Rd\, Toorak\, VIC\, 3142\, Australia
CATEGORIES:Business Event,Open Member Event
ATTACH;FMTTYPE=image/jpeg:https://oha.org.au/wp-content/uploads/2025/07/Greenback-event.jpg
ORGANIZER;CN="Cristina Zannoni":MAILTO:stayconnected@haileybury.com.au
GEO:-37.840741;145.009652
X-APPLE-STRUCTURED-LOCATION;VALUE=URI;X-ADDRESS=Kay and Burton Level 7 505 Toorak Rd Toorak VIC 3142 Australia;X-APPLE-RADIUS=500;X-TITLE=Level 7\, 505 Toorak Rd:geo:145.009652,-37.840741
END:VEVENT
END:VCALENDAR