BEGIN:VCALENDAR
VERSION:2.0
PRODID:-//Old Haileyburians Association - ECPv6.15.20//NONSGML v1.0//EN
CALSCALE:GREGORIAN
METHOD:PUBLISH
X-ORIGINAL-URL:https://oha.org.au
X-WR-CALDESC:Events for Old Haileyburians Association
REFRESH-INTERVAL;VALUE=DURATION:PT1H
X-Robots-Tag:noindex
X-PUBLISHED-TTL:PT1H
BEGIN:VTIMEZONE
TZID:Australia/Melbourne
BEGIN:STANDARD
TZOFFSETFROM:+1100
TZOFFSETTO:+1000
TZNAME:AEST
DTSTART:20250405T160000
END:STANDARD
BEGIN:DAYLIGHT
TZOFFSETFROM:+1000
TZOFFSETTO:+1100
TZNAME:AEDT
DTSTART:20251004T160000
END:DAYLIGHT
BEGIN:STANDARD
TZOFFSETFROM:+1100
TZOFFSETTO:+1000
TZNAME:AEST
DTSTART:20260404T160000
END:STANDARD
BEGIN:DAYLIGHT
TZOFFSETFROM:+1000
TZOFFSETTO:+1100
TZNAME:AEDT
DTSTART:20261003T160000
END:DAYLIGHT
BEGIN:STANDARD
TZOFFSETFROM:+1100
TZOFFSETTO:+1000
TZNAME:AEST
DTSTART:20270403T160000
END:STANDARD
BEGIN:DAYLIGHT
TZOFFSETFROM:+1000
TZOFFSETTO:+1100
TZNAME:AEDT
DTSTART:20271002T160000
END:DAYLIGHT
END:VTIMEZONE
BEGIN:VEVENT
DTSTART;TZID=Australia/Melbourne:20260227T133000
DTEND;TZID=Australia/Melbourne:20260227T183000
DTSTAMP:20260423T192557
CREATED:20251110T041546Z
LAST-MODIFIED:20251110T041546Z
UID:10000230-1772199000-1772217000@oha.org.au
SUMMARY:Former Cricketers Event
DESCRIPTION:On behalf of Haileybury and the Old Haileyburians Association\, we invite you to this exclusive invitation only event as a former Cricket Team Member\, to join us for an afternoon of cricket and refreshments. \nWatch the stars of the future from Haileybury and Geelong Grammar battle it out on Haileybury’s iconic Rendall Oval in the comfort of the Langford Pavilion. Your arrival time can be any time from 1.30 pm. \nEnjoy an afternoon of cricket\, drinks and nibbles. \nWe will also celebrate the 20th and 60th anniversaries of the cricket premiership\, so come along and enjoy a great day out! \n 
URL:https://oha.org.au/event/former-cricketers-event/
LOCATION:Haileybury\, 855 Springvale Road\, Keysborough\, VIC\, 3173\, Australia
CATEGORIES:Community Event,Specialty Sport Event
ATTACH;FMTTYPE=image/jpeg:https://oha.org.au/wp-content/uploads/2024/09/Former-First-XI-Cricketers-event.jpg
ORGANIZER;CN="Cristina Zannoni":MAILTO:stayconnected@haileybury.com.au
GEO:-37.9952992;145.1441531
X-APPLE-STRUCTURED-LOCATION;VALUE=URI;X-ADDRESS=Haileybury 855 Springvale Road Keysborough VIC 3173 Australia;X-APPLE-RADIUS=500;X-TITLE=855 Springvale Road:geo:145.1441531,-37.9952992
END:VEVENT
END:VCALENDAR