BEGIN:VCALENDAR
VERSION:2.0
PRODID:-//Old Haileyburians Association - ECPv6.15.20//NONSGML v1.0//EN
CALSCALE:GREGORIAN
METHOD:PUBLISH
X-WR-CALNAME:Old Haileyburians Association
X-ORIGINAL-URL:https://oha.org.au
X-WR-CALDESC:Events for Old Haileyburians Association
REFRESH-INTERVAL;VALUE=DURATION:PT1H
X-Robots-Tag:noindex
X-PUBLISHED-TTL:PT1H
BEGIN:VTIMEZONE
TZID:Australia/Melbourne
BEGIN:STANDARD
TZOFFSETFROM:+1100
TZOFFSETTO:+1000
TZNAME:AEST
DTSTART:20240406T160000
END:STANDARD
BEGIN:DAYLIGHT
TZOFFSETFROM:+1000
TZOFFSETTO:+1100
TZNAME:AEDT
DTSTART:20241005T160000
END:DAYLIGHT
BEGIN:STANDARD
TZOFFSETFROM:+1100
TZOFFSETTO:+1000
TZNAME:AEST
DTSTART:20250405T160000
END:STANDARD
BEGIN:DAYLIGHT
TZOFFSETFROM:+1000
TZOFFSETTO:+1100
TZNAME:AEDT
DTSTART:20251004T160000
END:DAYLIGHT
BEGIN:STANDARD
TZOFFSETFROM:+1100
TZOFFSETTO:+1000
TZNAME:AEST
DTSTART:20260404T160000
END:STANDARD
BEGIN:DAYLIGHT
TZOFFSETFROM:+1000
TZOFFSETTO:+1100
TZNAME:AEDT
DTSTART:20261003T160000
END:DAYLIGHT
BEGIN:STANDARD
TZOFFSETFROM:+1100
TZOFFSETTO:+1000
TZNAME:AEST
DTSTART:20270403T160000
END:STANDARD
BEGIN:DAYLIGHT
TZOFFSETFROM:+1000
TZOFFSETTO:+1100
TZNAME:AEDT
DTSTART:20271002T160000
END:DAYLIGHT
END:VTIMEZONE
BEGIN:VEVENT
DTSTART;TZID=Australia/Melbourne:20251030T183000
DTEND;TZID=Australia/Melbourne:20251030T210000
DTSTAMP:20260423T082001
CREATED:20250904T230458Z
LAST-MODIFIED:20251030T044830Z
UID:10000224-1761849000-1761858000@oha.org.au
SUMMARY:OHA Ignite
DESCRIPTION:Join us for the official launch of OHA Ignite – a brand-new initiative supporting the next generation of Old Haileyburian entrepreneurs! \nThis exciting program provides seed funding\, mentorship and the backing of experienced mentors in our alumni network to help bold ideas take shape and grow. \nThe evening will feature an address from Cam van den Dungen (OH 98)\, experienced entrepreneur and CEO\, who will share his journey and insights building and leading ventures in today’s fast-changing world. \nThe launch event is a chance to:\n– Hear firsthand from an experienced business leader\n– Learn how OHA Ignite will support alumni founders\n– Discover opportunities to get involved – as an applicant\, mentor or supporter\n– Connect with fellow alumni\, young professionals and business leaders \nWhether you’re an aspiring entrepreneur\, a seasoned mentor or simply passionate about supporting innovation within our community – this event is not to be missed. \nTickets only $10 (includes canapes). RSVP now to secure your place! \n 
URL:https://oha.org.au/event/oha-ignite/
LOCATION:Haileybury Brighton Campus\, 120 South Road\, Brighton East\, VIC\, 3187\, Australia
CATEGORIES:Business Event,Open Member Event
ATTACH;FMTTYPE=image/jpeg:https://oha.org.au/wp-content/uploads/2025/09/Copy-of-Copy-of-OHA-Property-Lunch.jpg
ORGANIZER;CN="Cristina Zannoni":MAILTO:stayconnected@haileybury.com.au
GEO:-37.9308848;145.0073152
X-APPLE-STRUCTURED-LOCATION;VALUE=URI;X-ADDRESS=Haileybury Brighton Campus 120 South Road Brighton East VIC 3187 Australia;X-APPLE-RADIUS=500;X-TITLE=120 South Road:geo:145.0073152,-37.9308848
END:VEVENT
BEGIN:VEVENT
DTSTART;TZID=Australia/Melbourne:20260318T183000
DTEND;TZID=Australia/Melbourne:20260318T213000
DTSTAMP:20260423T082001
CREATED:20251110T043244Z
LAST-MODIFIED:20251110T043244Z
UID:10000232-1773858600-1773869400@oha.org.au
SUMMARY:HRS Melbourne Event
DESCRIPTION:Join the OHA at Haileybury City for a relaxed and enjoyable dinner on Level 9\, with stunning views overlooking the city skyline! \nReconnect with fellow HRS alumni\, share stories\, and enjoy a night out in great company—all completely subsidised by the OHA. \nSpaces are limited\, so don’t miss your chance to be part of this special evening—RSVP now to secure your spot!
URL:https://oha.org.au/event/hrs-melbourne-event-3/
LOCATION:Haileybury City Campus\, 383 King St\, West Melbourne\, VIC\, 3003\, Australia
CATEGORIES:Chapter Reunion,Open Member Event
ATTACH;FMTTYPE=image/jpeg:https://oha.org.au/wp-content/uploads/2024/10/HRS-Melbourne-Event.jpg
ORGANIZER;CN="Cristina Zannoni":MAILTO:stayconnected@haileybury.com.au
GEO:-37.8110948;144.9529957
X-APPLE-STRUCTURED-LOCATION;VALUE=URI;X-ADDRESS=Haileybury City Campus 383 King St West Melbourne VIC 3003 Australia;X-APPLE-RADIUS=500;X-TITLE=383 King St:geo:144.9529957,-37.8110948
END:VEVENT
BEGIN:VEVENT
DTSTART;TZID=Australia/Melbourne:20260522T120000
DTEND;TZID=Australia/Melbourne:20260522T140000
DTSTAMP:20260423T082001
CREATED:20251110T234044Z
LAST-MODIFIED:20260422T035609Z
UID:10000239-1779451200-1779458400@oha.org.au
SUMMARY:Boutique Industry Luncheon with Rohan Parrant OH 2005
DESCRIPTION:Join us for an in-person Boutique Industry Luncheon at Haileybury City with our guest speaker Rohan Parrant OH 2005. \nThe theme of the luncheon is ‘Mental Fitness: From Awareness to Action’. \nIn this talk\, Rohan shares lessons from his own journey and work across schools\, workplaces\, and the community to highlight the importance of mental fitness. He will explore how to navigate pressure\, build resilience\, and develop habits that support long-term wellbeing and performance. \nRohan is a wellbeing and performance specialist\, keynote speaker\, and coach with over 20 years of experience helping people build resilience\, manage pressure\, and perform at their best. \nHe works across construction\, corporate organisations\, schools\, and community settings\, delivering practical strategies that go beyond awareness and focus on real-world application. His approach sits at the intersection of mental health and high performance\, helping individuals and teams build resilience\, manage stress\, and take control of their direction. \nRohan has worked on major infrastructure projects across Victoria\, supported vulnerable youth\, run domestic violence programs\, delivered programs in schools\, and facilitated conversations with hundreds of men around mental health and wellbeing. \nA former student of the school\, Rohan brings a relatable and honest perspective\, centered on one core message: awareness isn’t enough\, real change comes from taking action and building the habits that support it. \nThis event is free\, but registration is essential.
URL:https://oha.org.au/event/boutique-industry-luncheon-3/
LOCATION:Haileybury City Campus\, 383 King St\, West Melbourne\, VIC\, 3003\, Australia
CATEGORIES:Industry Networking,Open Member Event
ATTACH;FMTTYPE=image/jpeg:https://oha.org.au/wp-content/uploads/2024/10/2025-generic-boutique-lunch.jpg
ORGANIZER;CN="Cristina Zannoni":MAILTO:stayconnected@haileybury.com.au
GEO:-37.8110948;144.9529957
X-APPLE-STRUCTURED-LOCATION;VALUE=URI;X-ADDRESS=Haileybury City Campus 383 King St West Melbourne VIC 3003 Australia;X-APPLE-RADIUS=500;X-TITLE=383 King St:geo:144.9529957,-37.8110948
END:VEVENT
BEGIN:VEVENT
DTSTART;TZID=Australia/Melbourne:20261002T070000
DTEND;TZID=Australia/Melbourne:20261002T150000
DTSTAMP:20260423T082001
CREATED:20251111T050158Z
LAST-MODIFIED:20251208T232951Z
UID:10000252-1790924400-1790953200@oha.org.au
SUMMARY:Golf Day
DESCRIPTION:Join us at the 2026 OHA Golf Day at the Southern Golf Course and have a chance to win a Mercedes-Benz! \nArrive between 7am to 7.45am for registration and a light breakfast and then at 8am\, we have a shotgun start. \nAfter the round of golf\, you are invited to join us for a buffet lunch at 1pm. \nPlaces are limited to just 120 players\, so be sure to book in early. \nPlease note\, students/under 18s need to be accompanied by an adult caddy or adult playing partner. \nThank you to our major sponsors Mercedes-Benz Berwick for bringing this event to life.
URL:https://oha.org.au/event/golf-day-2/
LOCATION:Southern Golf Club\, Lower Dandenong Road\, Keysborough\, VIC\, 3173
CATEGORIES:Open Member Event
ATTACH;FMTTYPE=image/jpeg:https://oha.org.au/wp-content/uploads/2025/11/Golf-Day-website-image-1.jpg
ORGANIZER;CN="Cristina Zannoni":MAILTO:stayconnected@haileybury.com.au
GEO:-37.9903834;145.1401417
X-APPLE-STRUCTURED-LOCATION;VALUE=URI;X-ADDRESS=Southern Golf Club Lower Dandenong Road Keysborough VIC 3173;X-APPLE-RADIUS=500;X-TITLE=Lower Dandenong Road:geo:145.1401417,-37.9903834
END:VEVENT
END:VCALENDAR