BEGIN:VCALENDAR
VERSION:2.0
PRODID:-//Old Haileyburians Association - ECPv6.15.20//NONSGML v1.0//EN
CALSCALE:GREGORIAN
METHOD:PUBLISH
X-ORIGINAL-URL:https://oha.org.au
X-WR-CALDESC:Events for Old Haileyburians Association
REFRESH-INTERVAL;VALUE=DURATION:PT1H
X-Robots-Tag:noindex
X-PUBLISHED-TTL:PT1H
BEGIN:VTIMEZONE
TZID:Australia/Melbourne
BEGIN:STANDARD
TZOFFSETFROM:+1100
TZOFFSETTO:+1000
TZNAME:AEST
DTSTART:20210403T160000
END:STANDARD
BEGIN:DAYLIGHT
TZOFFSETFROM:+1000
TZOFFSETTO:+1100
TZNAME:AEDT
DTSTART:20211002T160000
END:DAYLIGHT
BEGIN:STANDARD
TZOFFSETFROM:+1100
TZOFFSETTO:+1000
TZNAME:AEST
DTSTART:20220402T160000
END:STANDARD
BEGIN:DAYLIGHT
TZOFFSETFROM:+1000
TZOFFSETTO:+1100
TZNAME:AEDT
DTSTART:20221001T160000
END:DAYLIGHT
BEGIN:STANDARD
TZOFFSETFROM:+1100
TZOFFSETTO:+1000
TZNAME:AEST
DTSTART:20230401T160000
END:STANDARD
BEGIN:DAYLIGHT
TZOFFSETFROM:+1000
TZOFFSETTO:+1100
TZNAME:AEDT
DTSTART:20230930T160000
END:DAYLIGHT
END:VTIMEZONE
BEGIN:VEVENT
DTSTART;TZID=Australia/Melbourne:20221021T190000
DTEND;TZID=Australia/Melbourne:20221021T220000
DTSTAMP:20260423T042012
CREATED:20211222T034840Z
LAST-MODIFIED:20221019T050508Z
UID:10000020-1666378800-1666389600@oha.org.au
SUMMARY:Class of 2000\, 20-Year Reunion
DESCRIPTION:The class of 2000 celebrate their postponed 20 Year Reunion and are warmly invited to celebrate at the Haileybury City Campus on the stunning level 9 function room. \nCome along and catch up with friends\, view and tour the City campus while reminiscing about old times over delicious dinner and drinks!
URL:https://oha.org.au/event/class-of-2000-20-year-reunion/
LOCATION:Haileybury City Campus\, 383 King St\, West Melbourne\, VIC\, 3003\, Australia
CATEGORIES:Reunions
ATTACH;FMTTYPE=image/png:https://oha.org.au/wp-content/uploads/2021/12/Youre-invited-image-2.png
ORGANIZER;CN="Cristina Zannoni":MAILTO:stayconnected@haileybury.com.au
GEO:-37.8110948;144.9529957
X-APPLE-STRUCTURED-LOCATION;VALUE=URI;X-ADDRESS=Haileybury City Campus 383 King St West Melbourne VIC 3003 Australia;X-APPLE-RADIUS=500;X-TITLE=383 King St:geo:144.9529957,-37.8110948
END:VEVENT
BEGIN:VEVENT
DTSTART;TZID=Australia/Melbourne:20221021T190000
DTEND;TZID=Australia/Melbourne:20221021T220000
DTSTAMP:20260423T042012
CREATED:20211222T034729Z
LAST-MODIFIED:20221019T050551Z
UID:10000019-1666378800-1666389600@oha.org.au
SUMMARY:Class of 2001\, 20-Year Reunion
DESCRIPTION:The class of 2001 celebrate their postponed 20 Year Reunion and are warmly invited to celebrate at the Haileybury City Campus. \nCome along and catch up with friends\, view and tour the City campus while reminiscing about old times over delicious dinner and drinks!
URL:https://oha.org.au/event/class-of-2001-20-year-reunion-2/
LOCATION:Haileybury City Campus\, 383 King St\, West Melbourne\, VIC\, 3003\, Australia
CATEGORIES:Reunions
ATTACH;FMTTYPE=image/png:https://oha.org.au/wp-content/uploads/2021/12/Youre-Invited-image-3.png
ORGANIZER;CN="Cristina Zannoni":MAILTO:stayconnected@haileybury.com.au
GEO:-37.8110948;144.9529957
X-APPLE-STRUCTURED-LOCATION;VALUE=URI;X-ADDRESS=Haileybury City Campus 383 King St West Melbourne VIC 3003 Australia;X-APPLE-RADIUS=500;X-TITLE=383 King St:geo:144.9529957,-37.8110948
END:VEVENT
BEGIN:VEVENT
DTSTART;TZID=Australia/Melbourne:20221021T190000
DTEND;TZID=Australia/Melbourne:20221021T220000
DTSTAMP:20260423T042012
CREATED:20211220T231916Z
LAST-MODIFIED:20221021T033918Z
UID:10000011-1666378800-1666389600@oha.org.au
SUMMARY:Class of 2002\, 20-Year Reunion
DESCRIPTION:The class of 2002 celebrate their 20 Year Reunion and are warmly invited to celebrate at the Haileybury City Campus. \nCome along and catch up with friends\, view and tour the City campus while reminiscing about old times over dinner and drinks!
URL:https://oha.org.au/event/class-of-2002-20-year-reunion/
LOCATION:Haileybury City Campus\, 383 King St\, West Melbourne\, VIC\, 3003\, Australia
CATEGORIES:Reunions
ATTACH;FMTTYPE=image/png:https://oha.org.au/wp-content/uploads/2021/12/Youre-Invited-image-4.png
ORGANIZER;CN="Cristina Zannoni":MAILTO:stayconnected@haileybury.com.au
GEO:-37.8110948;144.9529957
X-APPLE-STRUCTURED-LOCATION;VALUE=URI;X-ADDRESS=Haileybury City Campus 383 King St West Melbourne VIC 3003 Australia;X-APPLE-RADIUS=500;X-TITLE=383 King St:geo:144.9529957,-37.8110948
END:VEVENT
BEGIN:VEVENT
DTSTART;TZID=Australia/Melbourne:20221028T100000
DTEND;TZID=Australia/Melbourne:20221028T111500
DTSTAMP:20260423T042012
CREATED:20211220T232326Z
LAST-MODIFIED:20220913T233848Z
UID:10000013-1666951200-1666955700@oha.org.au
SUMMARY:Class of 1972\, 50-Year Reunion
DESCRIPTION:The class of 1972 celebrates its 50-year school reunion this year and to mark this momentous occasion\, the Old Haileyburians Association warmly invites you to attend the 50-year reunion morning tea\, which will take place at the Castlefield campus\, where guests will be treated to a school tour around the grounds of Castlefield\, prior to morning tea. \nThis event is free – please RSVP for catering purposes.
URL:https://oha.org.au/event/class-of-1972-50-year-reunion/
LOCATION:Haileybury Brighton Campus\, 120 South Road\, Brighton East\, VIC\, 3187\, Australia
CATEGORIES:Reunions
ATTACH;FMTTYPE=image/png:https://oha.org.au/wp-content/uploads/2021/12/Youre-Invited-image-1972.png
ORGANIZER;CN="Cristina Zannoni":MAILTO:stayconnected@haileybury.com.au
GEO:-37.9308848;145.0073152
X-APPLE-STRUCTURED-LOCATION;VALUE=URI;X-ADDRESS=Haileybury Brighton Campus 120 South Road Brighton East VIC 3187 Australia;X-APPLE-RADIUS=500;X-TITLE=120 South Road:geo:145.0073152,-37.9308848
END:VEVENT
BEGIN:VEVENT
DTSTART;TZID=Australia/Melbourne:20221028T120000
DTEND;TZID=Australia/Melbourne:20221028T150000
DTSTAMP:20260423T042012
CREATED:20211220T232532Z
LAST-MODIFIED:20221026T231132Z
UID:10000014-1666958400-1666969200@oha.org.au
SUMMARY:Clark Club Luncheon
DESCRIPTION:This event has sold out. There are no more tickets available.   \nAs a Clark Club Member\, it gives us great pleasure to invite you to the 12th Annual Clark Club Luncheon\, to celebrate the life of a wonderful Haileyburian\, Mr Brian ‘Weary’ Clark.  This year’s Clark Club Luncheon will be held at the Royal Melbourne Golf Club\, 28 October 2022\, commencing twelve noon. \nWe would be delighted to see you at the Clark Club Luncheon. We also warmly welcome partners or your guest to this luncheon.  The bond amongst Old Haileyburians is a special one and occasions such as this continue to strengthen those wonderful friendships developed so many years ago.
URL:https://oha.org.au/event/clark-club-luncheon-2/
LOCATION:Royal Melbourne Golf Club\, Cheltenham Road\, Black Rock\, VIC\, 3193\, Australia
CATEGORIES:Reunions
ATTACH;FMTTYPE=image/png:https://oha.org.au/wp-content/uploads/2021/12/Website-invite-design-Clark-Club-2022.png
ORGANIZER;CN="Cristina Zannoni":MAILTO:stayconnected@haileybury.com.au
GEO:-37.9678325;145.0253219
X-APPLE-STRUCTURED-LOCATION;VALUE=URI;X-ADDRESS=Royal Melbourne Golf Club Cheltenham Road Black Rock VIC 3193 Australia;X-APPLE-RADIUS=500;X-TITLE=Cheltenham Road:geo:145.0253219,-37.9678325
END:VEVENT
END:VCALENDAR