BEGIN:VCALENDAR
VERSION:2.0
PRODID:-//Old Haileyburians Association - ECPv6.15.20//NONSGML v1.0//EN
CALSCALE:GREGORIAN
METHOD:PUBLISH
X-WR-CALNAME:Old Haileyburians Association
X-ORIGINAL-URL:https://oha.org.au
X-WR-CALDESC:Events for Old Haileyburians Association
REFRESH-INTERVAL;VALUE=DURATION:PT1H
X-Robots-Tag:noindex
X-PUBLISHED-TTL:PT1H
BEGIN:VTIMEZONE
TZID:Australia/Melbourne
BEGIN:STANDARD
TZOFFSETFROM:+1100
TZOFFSETTO:+1000
TZNAME:AEST
DTSTART:20210403T160000
END:STANDARD
BEGIN:DAYLIGHT
TZOFFSETFROM:+1000
TZOFFSETTO:+1100
TZNAME:AEDT
DTSTART:20211002T160000
END:DAYLIGHT
BEGIN:STANDARD
TZOFFSETFROM:+1100
TZOFFSETTO:+1000
TZNAME:AEST
DTSTART:20220402T160000
END:STANDARD
BEGIN:DAYLIGHT
TZOFFSETFROM:+1000
TZOFFSETTO:+1100
TZNAME:AEDT
DTSTART:20221001T160000
END:DAYLIGHT
BEGIN:STANDARD
TZOFFSETFROM:+1100
TZOFFSETTO:+1000
TZNAME:AEST
DTSTART:20230401T160000
END:STANDARD
BEGIN:DAYLIGHT
TZOFFSETFROM:+1000
TZOFFSETTO:+1100
TZNAME:AEDT
DTSTART:20230930T160000
END:DAYLIGHT
END:VTIMEZONE
BEGIN:VEVENT
DTSTART;TZID=Australia/Melbourne:20221111T183000
DTEND;TZID=Australia/Melbourne:20221111T213000
DTSTAMP:20260423T031859
CREATED:20211220T233112Z
LAST-MODIFIED:20220913T233847Z
UID:10000016-1668191400-1668202200@oha.org.au
SUMMARY:Class of 1997\, 25-Year Reunion
DESCRIPTION:Ten years is too long between drinks so we have arranged a get together to celebrate 25 years since graduation! We would love to see you at your reunion and it could be a great chance to connect with old friends! \nJoin us at Stomping Ground Brewery and Beer Hall on Friday\, 11 November and catch up with old friends over a few drinks and nibbles!
URL:https://oha.org.au/event/class-of-1997-25-year-reunion/
LOCATION:Stomping Ground Brewery and Beer Hall\, 9 Cochranes Road\, Moorabbin\, VIC\, 3189
CATEGORIES:Reunions
ATTACH;FMTTYPE=image/png:https://oha.org.au/wp-content/uploads/2021/12/Event-Website-image-Class-of-1997.png
ORGANIZER;CN="Cristina Zannoni":MAILTO:stayconnected@haileybury.com.au
GEO:-37.9418597;145.0618277
X-APPLE-STRUCTURED-LOCATION;VALUE=URI;X-ADDRESS=Stomping Ground Brewery and Beer Hall 9 Cochranes Road Moorabbin VIC 3189;X-APPLE-RADIUS=500;X-TITLE=9 Cochranes Road:geo:145.0618277,-37.9418597
END:VEVENT
BEGIN:VEVENT
DTSTART;TZID=Australia/Melbourne:20221118T183000
DTEND;TZID=Australia/Melbourne:20221118T220000
DTSTAMP:20260423T031859
CREATED:20211220T233223Z
LAST-MODIFIED:20221117T215436Z
UID:10000017-1668796200-1668808800@oha.org.au
SUMMARY:Class of 2017\, 5-Year Reunion
DESCRIPTION:Experience a totally different night out onboard the Victoria Star to celebrate the Class of 2017 – 5 Year Reunion. Sail away for three hours\, reminiscing about old times\, eating and drinking while sailing on the Yarra River. \nSpaces are limited! Boarding begins at 6.30pm and boat will leave the dock at 7.00pm sharp.
URL:https://oha.org.au/event/class-of-2017-5-year-reunion/
LOCATION:Victoria Star\, 111 Merchant Street\, Docklands\, VIC\, 3008\, Australia
CATEGORIES:Reunions
ATTACH;FMTTYPE=image/png:https://oha.org.au/wp-content/uploads/2021/12/Event-Website-Invite-Class-of-2017.png
ORGANIZER;CN="Cristina Zannoni":MAILTO:stayconnected@haileybury.com.au
GEO:-37.818703;144.9427796
X-APPLE-STRUCTURED-LOCATION;VALUE=URI;X-ADDRESS=Victoria Star 111 Merchant Street Docklands VIC 3008 Australia;X-APPLE-RADIUS=500;X-TITLE=111 Merchant Street:geo:144.9427796,-37.818703
END:VEVENT
BEGIN:VEVENT
DTSTART;TZID=Australia/Melbourne:20221125T120000
DTEND;TZID=Australia/Melbourne:20221125T150000
DTSTAMP:20260423T031859
CREATED:20211220T233335Z
LAST-MODIFIED:20220913T233845Z
UID:10000018-1669377600-1669388400@oha.org.au
SUMMARY:Class of 1987\, 35-Year Reunion
DESCRIPTION:It’s hard to believe it’s been 35 years since graduation. \nCome and reminisce with the Class of 1987 and join us for a delicious 3 course lunch at Sunny Boy. \n  \n 
URL:https://oha.org.au/event/class-of-1987-35-year-reunion/
LOCATION:Sunny Boy\, 212 Bay Trail\, Mordialloc\, VIC\, 3195\, Australia
CATEGORIES:Reunions
ATTACH;FMTTYPE=image/png:https://oha.org.au/wp-content/uploads/2021/12/Youre-Invited-web-image.png
ORGANIZER;CN="Cristina Zannoni":MAILTO:stayconnected@haileybury.com.au
GEO:-38.0087699;145.0840993
X-APPLE-STRUCTURED-LOCATION;VALUE=URI;X-ADDRESS=Sunny Boy 212 Bay Trail Mordialloc VIC 3195 Australia;X-APPLE-RADIUS=500;X-TITLE=212 Bay Trail:geo:145.0840993,-38.0087699
END:VEVENT
END:VCALENDAR