BEGIN:VCALENDAR
VERSION:2.0
PRODID:-//Old Haileyburians Association - ECPv6.15.20//NONSGML v1.0//EN
CALSCALE:GREGORIAN
METHOD:PUBLISH
X-ORIGINAL-URL:https://oha.org.au
X-WR-CALDESC:Events for Old Haileyburians Association
REFRESH-INTERVAL;VALUE=DURATION:PT1H
X-Robots-Tag:noindex
X-PUBLISHED-TTL:PT1H
BEGIN:VTIMEZONE
TZID:Australia/Melbourne
BEGIN:STANDARD
TZOFFSETFROM:+1100
TZOFFSETTO:+1000
TZNAME:AEST
DTSTART:20230401T160000
END:STANDARD
BEGIN:DAYLIGHT
TZOFFSETFROM:+1000
TZOFFSETTO:+1100
TZNAME:AEDT
DTSTART:20230930T160000
END:DAYLIGHT
BEGIN:STANDARD
TZOFFSETFROM:+1100
TZOFFSETTO:+1000
TZNAME:AEST
DTSTART:20240406T160000
END:STANDARD
BEGIN:DAYLIGHT
TZOFFSETFROM:+1000
TZOFFSETTO:+1100
TZNAME:AEDT
DTSTART:20241005T160000
END:DAYLIGHT
BEGIN:STANDARD
TZOFFSETFROM:+1100
TZOFFSETTO:+1000
TZNAME:AEST
DTSTART:20250405T160000
END:STANDARD
BEGIN:DAYLIGHT
TZOFFSETFROM:+1000
TZOFFSETTO:+1100
TZNAME:AEDT
DTSTART:20251004T160000
END:DAYLIGHT
END:VTIMEZONE
BEGIN:VEVENT
DTSTART;TZID=Australia/Melbourne:20241011T120000
DTEND;TZID=Australia/Melbourne:20241011T150000
DTSTAMP:20260421T220114
CREATED:20231204T010857Z
LAST-MODIFIED:20241009T222825Z
UID:10000160-1728648000-1728658800@oha.org.au
SUMMARY:Class of 1989 35-Year Reunion
DESCRIPTION:Your 35-year reunion is here! \nDon’t miss the chance to reconnect with old friends at your reunion. \nJoin us at True South\, in Black Rock. \nEnjoy a delightful three-course lunch and drinks from 12 pm to 3 pm on Friday\, 11 October. \nCatch up with former classmates\, hear their stories\, and relish an afternoon with friends. We hope to see you all there on the day!
URL:https://oha.org.au/event/class-of-1989-35-year-reunion/
LOCATION:True South\, Beach Road\, Black Rock\, VIC\, 3193\, Australia
CATEGORIES:Reunions
ATTACH;FMTTYPE=image/jpeg:https://oha.org.au/wp-content/uploads/2023/12/Website-image-Class-of-1989.jpg
ORGANIZER;CN="Cristina Zannoni":MAILTO:stayconnected@haileybury.com.au
GEO:-37.975729;145.0164627
X-APPLE-STRUCTURED-LOCATION;VALUE=URI;X-ADDRESS=True South Beach Road Black Rock VIC 3193 Australia;X-APPLE-RADIUS=500;X-TITLE=Beach Road:geo:145.0164627,-37.975729
END:VEVENT
BEGIN:VEVENT
DTSTART;TZID=Australia/Melbourne:20241018T190000
DTEND;TZID=Australia/Melbourne:20241018T220000
DTSTAMP:20260421T220114
CREATED:20231120T003909Z
LAST-MODIFIED:20241017T214541Z
UID:10000149-1729278000-1729288800@oha.org.au
SUMMARY:Class of 2004 20 Year Reunion
DESCRIPTION:It’s been two decades since you left Haileybury\, and it’s time to come together and celebrate the good old times. We are thrilled to invite you to the Class of 2004 20-year reunion at Haileybury City.\n\n\nPlease join us for an evening of catching up\, reminiscing\, and creating new memories. Enjoy a stand-up cocktail reception with delicious canapes and drinks\, while mingling with old friends and enjoy a school tour to have a look at the beautiful city campus. \nHere’s what you can expect: \n🍻 Beers and Cheers: Raise your glass to the good times with beers\, wines and plenty of food to enjoy throughout the evening. \n📸 Memory Lane: Take a walk down memory lane with nostalgic photos from the past. \n🎶 Tunes and Grooves: Dance the night away to a playlist that’s a perfect mix of hits from your era. Get ready to reminisce and maybe even show off a few of those dance moves that never really went away! \n🎤 No Pressure\, No Pretense: This reunion is about celebrating – not just the highlights\, but the messy\, the quirky\, and the unforgettable moments that shaped who you are today. Let’s leave the “keeping up” and the “who’s who” at the door and focus on the shared bonds that make your class special. \nFeel free to bring a plus one – the more\, the merrier! \nTickets are only $60! \nMark your calendars for Friday\, 18 October at 7pm\, and come along to stay connected and relive the memories of your Haileybury days.
URL:https://oha.org.au/event/class-of-2004-20-year-reunion/
LOCATION:Haileybury City Campus\, 383 King St\, West Melbourne\, VIC\, 3003\, Australia
CATEGORIES:Reunions
ATTACH;FMTTYPE=image/jpeg:https://oha.org.au/wp-content/uploads/2023/11/Website-image-class-of-2004.jpg
ORGANIZER;CN="Cristina Zannoni":MAILTO:stayconnected@haileybury.com.au
GEO:-37.8110948;144.9529957
X-APPLE-STRUCTURED-LOCATION;VALUE=URI;X-ADDRESS=Haileybury City Campus 383 King St West Melbourne VIC 3003 Australia;X-APPLE-RADIUS=500;X-TITLE=383 King St:geo:144.9529957,-37.8110948
END:VEVENT
BEGIN:VEVENT
DTSTART;TZID=Australia/Melbourne:20241025T100000
DTEND;TZID=Australia/Melbourne:20241025T113000
DTSTAMP:20260421T220114
CREATED:20231120T005408Z
LAST-MODIFIED:20240726T000351Z
UID:10000150-1729850400-1729855800@oha.org.au
SUMMARY:Class of 1974 50-Year Reunion
DESCRIPTION:The class of 1974 celebrates its 50-year school reunion this year and to mark this momentous occasion\, the Old Haileyburians Association warmly invites you to attend your 50-year reunion\, which will take place at the Keysborough campus\, where guests will be treated to a school tour around the grounds of Keysborough\, prior to a refined brunch affair. \nThis event is free – please RSVP for catering purposes. \nAfter brunch at the Keysborough campus\, 1974 members and partners are invited to attend a luncheon at the Kingston Heath Golf Club\, where you will be officially inducted into the Brian ‘Weary’ Clark Club. \nThis club celebrates over 50 years of OHA membership and honours the life of Brian Clark\, annually. \nThis luncheon is priced at $60 and can be found here. \nWe hope to see you at both events!
URL:https://oha.org.au/event/class-of-1974-50-year-reunion/
LOCATION:Haileybury\, 855 Springvale Road\, Keysborough\, VIC\, 3173\, Australia
CATEGORIES:Reunions
ATTACH;FMTTYPE=image/png:https://oha.org.au/wp-content/uploads/2023/11/Website-image-Class-of-1974.png
ORGANIZER;CN="Cristina Zannoni":MAILTO:stayconnected@haileybury.com.au
GEO:-37.9952992;145.1441531
X-APPLE-STRUCTURED-LOCATION;VALUE=URI;X-ADDRESS=Haileybury 855 Springvale Road Keysborough VIC 3173 Australia;X-APPLE-RADIUS=500;X-TITLE=855 Springvale Road:geo:145.1441531,-37.9952992
END:VEVENT
BEGIN:VEVENT
DTSTART;TZID=Australia/Melbourne:20241025T120000
DTEND;TZID=Australia/Melbourne:20241025T150000
DTSTAMP:20260421T220114
CREATED:20231120T014041Z
LAST-MODIFIED:20241022T083714Z
UID:10000151-1729857600-1729868400@oha.org.au
SUMMARY:Clark Club Luncheon
DESCRIPTION:As a Clark Club Member\, it gives us great pleasure to invite you to the 14th Annual Clark Club Luncheon\, to celebrate 50+ years of OHA membership and the life of a wonderful Haileyburian\, Mr Brian ‘Weary’ Clark. \nThis year we will be welcoming the Class of 1974 who will be joining us after their reunion.  \nOur luncheons in the past have presented a tremendous opportunity to catch up with fellow Old Haileyburians from the 40’s\, 50’s and 60’s\, and this year’s luncheon will be no different. \nThis year’s Clark Club Luncheon will be held at the Kingston Heath Golf Club\, 25 October 2024\, commencing twelve noon. \nWe would be delighted to see you at the Clark Club Luncheon. We also warmly welcome partners or your guest to this luncheon. \nLunch and drinks will be provided and ticket prices are the same for both alumni and partners. \nThe bond amongst Old Haileyburians is a special one and occasions such as this continue to strengthen those wonderful friendships developed so many years ago.
URL:https://oha.org.au/event/clark-club-luncheon-4/
LOCATION:Kingston Heath Golf Club\, Kingston Road\, Cheltenham\, VIC\, 3193\, Australia
CATEGORIES:Reunions
ATTACH;FMTTYPE=image/png:https://oha.org.au/wp-content/uploads/2023/11/Website-image.png
ORGANIZER;CN="Cristina Zannoni":MAILTO:stayconnected@haileybury.com.au
GEO:-37.9656436;145.0578515
X-APPLE-STRUCTURED-LOCATION;VALUE=URI;X-ADDRESS=Kingston Heath Golf Club Kingston Road Cheltenham VIC 3193 Australia;X-APPLE-RADIUS=500;X-TITLE=Kingston Road:geo:145.0578515,-37.9656436
END:VEVENT
END:VCALENDAR