BEGIN:VCALENDAR
VERSION:2.0
PRODID:-//Old Haileyburians Association - ECPv6.15.20//NONSGML v1.0//EN
CALSCALE:GREGORIAN
METHOD:PUBLISH
X-ORIGINAL-URL:https://oha.org.au
X-WR-CALDESC:Events for Old Haileyburians Association
REFRESH-INTERVAL;VALUE=DURATION:PT1H
X-Robots-Tag:noindex
X-PUBLISHED-TTL:PT1H
BEGIN:VTIMEZONE
TZID:Australia/Melbourne
BEGIN:STANDARD
TZOFFSETFROM:+1100
TZOFFSETTO:+1000
TZNAME:AEST
DTSTART:20210403T160000
END:STANDARD
BEGIN:DAYLIGHT
TZOFFSETFROM:+1000
TZOFFSETTO:+1100
TZNAME:AEDT
DTSTART:20211002T160000
END:DAYLIGHT
BEGIN:STANDARD
TZOFFSETFROM:+1100
TZOFFSETTO:+1000
TZNAME:AEST
DTSTART:20220402T160000
END:STANDARD
BEGIN:DAYLIGHT
TZOFFSETFROM:+1000
TZOFFSETTO:+1100
TZNAME:AEDT
DTSTART:20221001T160000
END:DAYLIGHT
BEGIN:STANDARD
TZOFFSETFROM:+1100
TZOFFSETTO:+1000
TZNAME:AEST
DTSTART:20230401T160000
END:STANDARD
BEGIN:DAYLIGHT
TZOFFSETFROM:+1000
TZOFFSETTO:+1100
TZNAME:AEDT
DTSTART:20230930T160000
END:DAYLIGHT
END:VTIMEZONE
BEGIN:VEVENT
DTSTART;TZID=Australia/Melbourne:20220513T190000
DTEND;TZID=Australia/Melbourne:20220513T220000
DTSTAMP:20260424T094009
CREATED:20211220T035656Z
LAST-MODIFIED:20220511T015338Z
UID:10000003-1652468400-1652479200@oha.org.au
SUMMARY:Class of 2012\, 10-Year Reunion
DESCRIPTION:Join us at Valhalla to celebrate 10 years since graduation. Food and drinks will be flowing paired with laughs and memories a plenty. \nWe anticipate tickets will sell out! \nWith a set capacity on the venue\, we encourage all alumni to RSVP early! \nIMPORTANT NOTE: The venue has kindly requested that all patrons be double vaccinated in order to attend the event.
URL:https://oha.org.au/event/class-of-2012-10-year-reunion/
LOCATION:Valhalla\, 477 Collins Street\, Melbourne\, VIC\, 3000\, Australia
CATEGORIES:Reunions
ATTACH;FMTTYPE=image/png:https://oha.org.au/wp-content/uploads/2021/12/Class-of-2012-10-Year-Reunion-web-image-002.png
ORGANIZER;CN="Cristina Zannoni":MAILTO:stayconnected@haileybury.com.au
GEO:-37.8180765;144.9583657
X-APPLE-STRUCTURED-LOCATION;VALUE=URI;X-ADDRESS=Valhalla 477 Collins Street Melbourne VIC 3000 Australia;X-APPLE-RADIUS=500;X-TITLE=477 Collins Street:geo:144.9583657,-37.8180765
END:VEVENT
END:VCALENDAR