BEGIN:VCALENDAR
VERSION:2.0
PRODID:-//Old Haileyburians Association - ECPv6.15.20//NONSGML v1.0//EN
CALSCALE:GREGORIAN
METHOD:PUBLISH
X-ORIGINAL-URL:https://oha.org.au
X-WR-CALDESC:Events for Old Haileyburians Association
REFRESH-INTERVAL;VALUE=DURATION:PT1H
X-Robots-Tag:noindex
X-PUBLISHED-TTL:PT1H
BEGIN:VTIMEZONE
TZID:Australia/Melbourne
BEGIN:STANDARD
TZOFFSETFROM:+1100
TZOFFSETTO:+1000
TZNAME:AEST
DTSTART:20200404T160000
END:STANDARD
BEGIN:DAYLIGHT
TZOFFSETFROM:+1000
TZOFFSETTO:+1100
TZNAME:AEDT
DTSTART:20201003T160000
END:DAYLIGHT
BEGIN:STANDARD
TZOFFSETFROM:+1100
TZOFFSETTO:+1000
TZNAME:AEST
DTSTART:20210403T160000
END:STANDARD
BEGIN:DAYLIGHT
TZOFFSETFROM:+1000
TZOFFSETTO:+1100
TZNAME:AEDT
DTSTART:20211002T160000
END:DAYLIGHT
BEGIN:STANDARD
TZOFFSETFROM:+1100
TZOFFSETTO:+1000
TZNAME:AEST
DTSTART:20220402T160000
END:STANDARD
BEGIN:DAYLIGHT
TZOFFSETFROM:+1000
TZOFFSETTO:+1100
TZNAME:AEDT
DTSTART:20221001T160000
END:DAYLIGHT
END:VTIMEZONE
BEGIN:VEVENT
DTSTART;TZID=Australia/Melbourne:20210909T190000
DTEND;TZID=Australia/Melbourne:20210909T220000
DTSTAMP:20260421T205609
CREATED:20210514T050516Z
LAST-MODIFIED:20210628T032802Z
UID:10000088-1631214000-1631224800@oha.org.au
SUMMARY:Adelaide Chapter Event
DESCRIPTION:This event is open to all OHA members and their partners living in Adelaide. Join us for a wonderful dinner at our OHA Adelaide Chapter Event.
URL:https://oha.org.au/event/adelaide-chapter-event/
LOCATION:Lady Burra Brewhouse\, 4 Topham Mall\, Adelaide\, SA\, 5000\, Australia
CATEGORIES:Chapter Events
ATTACH;FMTTYPE=image/jpeg:https://oha.org.au/wp-content/uploads/2021/05/Adelaide-Chapter-Event-Banner-2021-scaled.jpg
ORGANIZER;CN="Cristina Zannoni":MAILTO:stayconnected@haileybury.com.au
GEO:-34.924852;138.597757
X-APPLE-STRUCTURED-LOCATION;VALUE=URI;X-ADDRESS=Lady Burra Brewhouse 4 Topham Mall Adelaide SA 5000 Australia;X-APPLE-RADIUS=500;X-TITLE=4 Topham Mall:geo:138.597757,-34.924852
END:VEVENT
BEGIN:VEVENT
DTSTART;TZID=Australia/Melbourne:20210903T190000
DTEND;TZID=Australia/Melbourne:20210903T220000
DTSTAMP:20260421T205609
CREATED:20210514T050425Z
LAST-MODIFIED:20210901T222535Z
UID:10000087-1630695600-1630706400@oha.org.au
SUMMARY:Perth Chapter Event
DESCRIPTION:This event is open to all OHA members and their partners living in Perth. Join us for a wonderful dinner at our OHA Perth Chapter Event.
URL:https://oha.org.au/event/perth-chapter-event/
LOCATION:Chez Pierre Restaurant\, 131 Striking Highway\, Nedlands\, WA\, 6009\, Australia
CATEGORIES:Chapter Events
ATTACH;FMTTYPE=image/jpeg:https://oha.org.au/wp-content/uploads/2021/05/Perth-Chapter-Event-Banner-2021-scaled.jpg
ORGANIZER;CN="Cristina Zannoni":MAILTO:stayconnected@haileybury.com.au
GEO:-31.9798313;115.7979654
X-APPLE-STRUCTURED-LOCATION;VALUE=URI;X-ADDRESS=Chez Pierre Restaurant 131 Striking Highway Nedlands WA 6009 Australia;X-APPLE-RADIUS=500;X-TITLE=131 Striking Highway:geo:115.7979654,-31.9798313
END:VEVENT
BEGIN:VEVENT
DTSTART;VALUE=DATE:20210824
DTEND;VALUE=DATE:20210906
DTSTAMP:20260421T205609
CREATED:20210824T011733Z
LAST-MODIFIED:20210824T011733Z
UID:10000056-1629763200-1630886399@oha.org.au
SUMMARY:Family Date Nights
DESCRIPTION:If you have watched everything on Netflix and are out of ideas to connect with the loved ones in your household\, why not check out the OHA Date Night Events! \nFAMILY DATE NIGHT \nThis one is for our OHA families stuck at home looking for something fun to do in isolation. \nOHA Family Date Night is presented by AmazingCo and can be enjoyed safely at home. In this experience you and your family will get to solve clues together\, each of which will reveal a fun challenge for you to compete in. Whoever has the most points wins the greatest prize of them all… the whole family’s eternal respect!  \nTag in the OHA or mention them in a social post for your chance to win a $300 Restaurant Voucher to The George on Collins or Bang Bang Mordialloc to enjoy a night out with the family post lockdown.  \nCOST: $15 per family with OHA discount (normally $30 per family) \nWHEN: It’s totally up to you\, a voucher will be issued via email to lock in your preferred date \nTo go into the draw the win the restaurant voucher\, date nights must be completed by 5th September 2021.
URL:https://oha.org.au/event/family-date-nights/
LOCATION:At Home Event\, This is a virtual event\, Australia
CATEGORIES:Online Events
ATTACH;FMTTYPE=image/jpeg:https://oha.org.au/wp-content/uploads/2021/08/Event-Banner-Family-Date-Night-scaled.jpg
ORGANIZER;CN="Cristina Zannoni":MAILTO:stayconnected@haileybury.com.au
GEO:37.7822;-122.4053111
X-APPLE-STRUCTURED-LOCATION;VALUE=URI;X-ADDRESS=At Home Event This is a virtual event Australia;X-APPLE-RADIUS=500;X-TITLE=This is a virtual event:geo:-122.4053111,37.7822
END:VEVENT
BEGIN:VEVENT
DTSTART;VALUE=DATE:20210824
DTEND;VALUE=DATE:20210906
DTSTAMP:20260421T205609
CREATED:20210824T012411Z
LAST-MODIFIED:20210824T012411Z
UID:10000057-1629763200-1630886399@oha.org.au
SUMMARY:Couples Date Night
DESCRIPTION:This one is for the couples stuck at home looking for something fun and different to do in isolation. OHA Couples Date Night is presented by AmazingCo and can be enjoyed safely at home. In this experience you and your partner will get to complete fun activities that are sure to have you laughing during these tough times. Whoever has the most points wins the greatest prize of them all… eternal respect – or… why not make it interesting and set your own wager… winner doesn’t have to do the dishes for a month perhaps?  \nTag in the OHA or mention them in a social post for your chance to win a $200 Restaurant Voucher to The George on Collins or Bang Bang Mordialloc to enjoy a night out with the family post lockdown.  \nCOST: $15 per couple with OHA discount (normally $30 per couple) \nWHEN: It’s totally up to you\, a voucher will be issued via email to lock in your preferred date \nTo go into the draw the win the restaurant voucher\, date nights must be completed by 5th September 2021.
URL:https://oha.org.au/event/couples-date-night/
LOCATION:At Home Event\, This is a virtual event\, Australia
CATEGORIES:Online Events
ATTACH;FMTTYPE=image/jpeg:https://oha.org.au/wp-content/uploads/2021/08/Event-Banner-Couples-Date-Night-scaled.jpg
ORGANIZER;CN="Cristina Zannoni":MAILTO:stayconnected@haileybury.com.au
GEO:37.7822;-122.4053111
X-APPLE-STRUCTURED-LOCATION;VALUE=URI;X-ADDRESS=At Home Event This is a virtual event Australia;X-APPLE-RADIUS=500;X-TITLE=This is a virtual event:geo:-122.4053111,37.7822
END:VEVENT
BEGIN:VEVENT
DTSTART;TZID=Australia/Melbourne:20210731T123000
DTEND;TZID=Australia/Melbourne:20210731T173000
DTSTAMP:20260421T205609
CREATED:20210512T070004Z
LAST-MODIFIED:20210622T060922Z
UID:10000089-1627734600-1627752600@oha.org.au
SUMMARY:Former First XVIII Football Reunion
DESCRIPTION:On behalf of Haileybury\, the Old Haileyburians Association\, the Haileybury Foundation and the OHA Football Club\, we invite you to this exclusive invitation only FREE event as a First XVIII Football Team Member.  \nJoin us for an afternoon of Football and refreshments as Haileybury and Brighton Grammar compete from 12:30pm. \nContinue on post match for the official function in the David Bradshaw Chapel from 3:30pm – 5:00pm where food and refreshments will be served. Please note that Water and soft-drink will also be available during the game with food to be purchased from the Corda Club marquee. \nPlease advise of any dietary requirements on check-out. \n 
URL:https://oha.org.au/event/former-first-xviii-football-reunion/
LOCATION:Haileybury Rendall Oval\, 855 Springvale Road\, Keysborough\, VIC\, 3173\, Australia
CATEGORIES:Specialty Sport Event
ATTACH;FMTTYPE=image/jpeg:https://oha.org.au/wp-content/uploads/2021/05/First-XVIII-Football-Event-Banner-2021-scaled.jpg
ORGANIZER;CN="Cristina Zannoni":MAILTO:stayconnected@haileybury.com.au
GEO:-37.9952992;145.1441531
X-APPLE-STRUCTURED-LOCATION;VALUE=URI;X-ADDRESS=Haileybury Rendall Oval 855 Springvale Road Keysborough VIC 3173 Australia;X-APPLE-RADIUS=500;X-TITLE=855 Springvale Road:geo:145.1441531,-37.9952992
END:VEVENT
END:VCALENDAR