BEGIN:VCALENDAR
VERSION:2.0
PRODID:-//Old Haileyburians Association - ECPv6.15.20//NONSGML v1.0//EN
CALSCALE:GREGORIAN
METHOD:PUBLISH
X-WR-CALNAME:Old Haileyburians Association
X-ORIGINAL-URL:https://oha.org.au
X-WR-CALDESC:Events for Old Haileyburians Association
REFRESH-INTERVAL;VALUE=DURATION:PT1H
X-Robots-Tag:noindex
X-PUBLISHED-TTL:PT1H
BEGIN:VTIMEZONE
TZID:Australia/Melbourne
BEGIN:STANDARD
TZOFFSETFROM:+1100
TZOFFSETTO:+1000
TZNAME:AEST
DTSTART:20200404T160000
END:STANDARD
BEGIN:DAYLIGHT
TZOFFSETFROM:+1000
TZOFFSETTO:+1100
TZNAME:AEDT
DTSTART:20201003T160000
END:DAYLIGHT
BEGIN:STANDARD
TZOFFSETFROM:+1100
TZOFFSETTO:+1000
TZNAME:AEST
DTSTART:20210403T160000
END:STANDARD
BEGIN:DAYLIGHT
TZOFFSETFROM:+1000
TZOFFSETTO:+1100
TZNAME:AEDT
DTSTART:20211002T160000
END:DAYLIGHT
BEGIN:STANDARD
TZOFFSETFROM:+1100
TZOFFSETTO:+1000
TZNAME:AEST
DTSTART:20220402T160000
END:STANDARD
BEGIN:DAYLIGHT
TZOFFSETFROM:+1000
TZOFFSETTO:+1100
TZNAME:AEDT
DTSTART:20221001T160000
END:DAYLIGHT
BEGIN:STANDARD
TZOFFSETFROM:+1100
TZOFFSETTO:+1000
TZNAME:AEST
DTSTART:20230401T160000
END:STANDARD
BEGIN:DAYLIGHT
TZOFFSETFROM:+1000
TZOFFSETTO:+1100
TZNAME:AEDT
DTSTART:20230930T160000
END:DAYLIGHT
BEGIN:STANDARD
TZOFFSETFROM:+1100
TZOFFSETTO:+1000
TZNAME:AEST
DTSTART:20240406T160000
END:STANDARD
BEGIN:DAYLIGHT
TZOFFSETFROM:+1000
TZOFFSETTO:+1100
TZNAME:AEDT
DTSTART:20241005T160000
END:DAYLIGHT
BEGIN:STANDARD
TZOFFSETFROM:+1100
TZOFFSETTO:+1000
TZNAME:AEST
DTSTART:20250405T160000
END:STANDARD
BEGIN:DAYLIGHT
TZOFFSETFROM:+1000
TZOFFSETTO:+1100
TZNAME:AEDT
DTSTART:20251004T160000
END:DAYLIGHT
END:VTIMEZONE
BEGIN:VEVENT
DTSTART;TZID=Australia/Melbourne:20240502T190000
DTEND;TZID=Australia/Melbourne:20240502T210000
DTSTAMP:20260421T223515
CREATED:20240201T045910Z
LAST-MODIFIED:20240416T024616Z
UID:10000162-1714676400-1714683600@oha.org.au
SUMMARY:HRS Melbourne Event
DESCRIPTION:Join the OHA and Craig and Kerry Glass at The George on Collins for dinner and drinks.  \nCatch up with alumni from HRS and enjoy a night out completely subsidised by the OHA. \nPlaces are limited to 20 so be quick to RSVP!
URL:https://oha.org.au/event/hrs-melbourne-event/
LOCATION:The George on Collins\, 162-168 Collins Street\, Melbourne\, VIC\, 3000\, Australia
ATTACH;FMTTYPE=image/jpeg:https://oha.org.au/wp-content/uploads/2024/02/Copy-of-Copy-of-Former-XI-Football-Event-1.jpg
ORGANIZER;CN="Cristina Zannoni":MAILTO:stayconnected@haileybury.com.au
GEO:-37.814827;144.9680491
X-APPLE-STRUCTURED-LOCATION;VALUE=URI;X-ADDRESS=The George on Collins 162-168 Collins Street Melbourne VIC 3000 Australia;X-APPLE-RADIUS=500;X-TITLE=162-168 Collins Street:geo:144.9680491,-37.814827
END:VEVENT
BEGIN:VEVENT
DTSTART;TZID=Australia/Melbourne:20211125T190000
DTEND;TZID=Australia/Melbourne:20211125T220000
DTSTAMP:20260421T223515
CREATED:20210514T054422Z
LAST-MODIFIED:20211025T235358Z
UID:10000049-1637866800-1637877600@oha.org.au
SUMMARY:Class of 1995 & 1996 - 25 Year Reunion
DESCRIPTION:Time has certainly flown by and we invite you to celebrate the Class of 1995 and 1996 – 25 Year Reunion! \nPlease join us at the George on Collins for a night of reminiscing and delicious food. \nIMPORTANT NOTE: The venue has kindly requested that all patrons be double vaccinated in order to attend the event.
URL:https://oha.org.au/event/class-of-1995-1996-25-year-reunion/
LOCATION:The George on Collins\, 162-168 Collins Street\, Melbourne\, VIC\, 3000\, Australia
CATEGORIES:Reunions
ATTACH;FMTTYPE=image/jpeg:https://oha.org.au/wp-content/uploads/2021/05/Event-Banner-25-Year-Reunion-1-scaled.jpg
ORGANIZER;CN="Cristina Zannoni":MAILTO:stayconnected@haileybury.com.au
GEO:-37.814827;144.9680491
X-APPLE-STRUCTURED-LOCATION;VALUE=URI;X-ADDRESS=The George on Collins 162-168 Collins Street Melbourne VIC 3000 Australia;X-APPLE-RADIUS=500;X-TITLE=162-168 Collins Street:geo:144.9680491,-37.814827
END:VEVENT
BEGIN:VEVENT
DTSTART;TZID=Australia/Melbourne:20211112T123000
DTEND;TZID=Australia/Melbourne:20211112T153000
DTSTAMP:20260421T223515
CREATED:20210514T054222Z
LAST-MODIFIED:20211025T235336Z
UID:10000048-1636720200-1636731000@oha.org.au
SUMMARY:Class of 1985 & 1986 - 35 Year Reunion
DESCRIPTION:It’s hard to believe it’s been 35 years since graduation. Come and reminisce with the Class of 1985 and 1986 and join us for a delicious banquet lunch at The George on Collins. \nIMPORTANT NOTE: The venue has kindly requested that all patrons be double vaccinated in order to attend the event.
URL:https://oha.org.au/event/class-of-1986-35-year-reunion/
LOCATION:The George on Collins\, 162-168 Collins Street\, Melbourne\, VIC\, 3000\, Australia
CATEGORIES:Reunions
ATTACH;FMTTYPE=image/png:https://oha.org.au/wp-content/uploads/2021/05/Event-Banner-35-Year-Reunion.png
ORGANIZER;CN="Cristina Zannoni":MAILTO:stayconnected@haileybury.com.au
GEO:-37.814827;144.9680491
X-APPLE-STRUCTURED-LOCATION;VALUE=URI;X-ADDRESS=The George on Collins 162-168 Collins Street Melbourne VIC 3000 Australia;X-APPLE-RADIUS=500;X-TITLE=162-168 Collins Street:geo:144.9680491,-37.814827
END:VEVENT
END:VCALENDAR