BEGIN:VCALENDAR
VERSION:2.0
PRODID:-//Old Haileyburians Association - ECPv6.15.20//NONSGML v1.0//EN
CALSCALE:GREGORIAN
METHOD:PUBLISH
X-WR-CALNAME:Old Haileyburians Association
X-ORIGINAL-URL:https://oha.org.au
X-WR-CALDESC:Events for Old Haileyburians Association
REFRESH-INTERVAL;VALUE=DURATION:PT1H
X-Robots-Tag:noindex
X-PUBLISHED-TTL:PT1H
BEGIN:VTIMEZONE
TZID:Australia/Melbourne
BEGIN:STANDARD
TZOFFSETFROM:+1100
TZOFFSETTO:+1000
TZNAME:AEST
DTSTART:20250405T160000
END:STANDARD
BEGIN:DAYLIGHT
TZOFFSETFROM:+1000
TZOFFSETTO:+1100
TZNAME:AEDT
DTSTART:20251004T160000
END:DAYLIGHT
BEGIN:STANDARD
TZOFFSETFROM:+1100
TZOFFSETTO:+1000
TZNAME:AEST
DTSTART:20260404T160000
END:STANDARD
BEGIN:DAYLIGHT
TZOFFSETFROM:+1000
TZOFFSETTO:+1100
TZNAME:AEDT
DTSTART:20261003T160000
END:DAYLIGHT
BEGIN:STANDARD
TZOFFSETFROM:+1100
TZOFFSETTO:+1000
TZNAME:AEST
DTSTART:20270403T160000
END:STANDARD
BEGIN:DAYLIGHT
TZOFFSETFROM:+1000
TZOFFSETTO:+1100
TZNAME:AEDT
DTSTART:20271002T160000
END:DAYLIGHT
END:VTIMEZONE
BEGIN:VEVENT
DTSTART;TZID=Australia/Melbourne:20261009T120000
DTEND;TZID=Australia/Melbourne:20261009T150000
DTSTAMP:20260424T191108
CREATED:20251111T011151Z
LAST-MODIFIED:20251111T011151Z
UID:10000247-1791547200-1791558000@oha.org.au
SUMMARY:Class of 1991 35-Year Reunion
DESCRIPTION:Your 35-year reunion is here! \nDon’t miss the chance to reconnect with old friends at your reunion. \nJoin us at True South\, in Black Rock. \nEnjoy a delightful three-course lunch and drinks from 12 pm to 3 pm on Friday\, 9th October. \nCatch up with former classmates\, hear their stories\, and enjoy an afternoon with friends. We hope to see you all there on the day!
URL:https://oha.org.au/event/class-of-1991-35-year-reunion/
LOCATION:True South\, Beach Road\, Black Rock\, VIC\, 3193\, Australia
ATTACH;FMTTYPE=image/jpeg:https://oha.org.au/wp-content/uploads/2025/11/Class-of-1991-35-year-reunion.jpg
ORGANIZER;CN="Cristina Zannoni":MAILTO:stayconnected@haileybury.com.au
GEO:-37.975729;145.0164627
X-APPLE-STRUCTURED-LOCATION;VALUE=URI;X-ADDRESS=True South Beach Road Black Rock VIC 3193 Australia;X-APPLE-RADIUS=500;X-TITLE=Beach Road:geo:145.0164627,-37.975729
END:VEVENT
END:VCALENDAR